BEGIN:VCALENDAR
VERSION:2.0
PRODID:-//erbsünde - Schnittmuster zum Selbernähen - ECPv6.15.20//NONSGML v1.0//EN
CALSCALE:GREGORIAN
METHOD:PUBLISH
X-ORIGINAL-URL:https://erbsuende.com
X-WR-CALDESC:Veranstaltungen für erbsünde - Schnittmuster zum Selbernähen
REFRESH-INTERVAL;VALUE=DURATION:PT1H
X-Robots-Tag:noindex
X-PUBLISHED-TTL:PT1H
BEGIN:VTIMEZONE
TZID:Europe/Berlin
BEGIN:DAYLIGHT
TZOFFSETFROM:+0100
TZOFFSETTO:+0200
TZNAME:CEST
DTSTART:20180325T010000
END:DAYLIGHT
BEGIN:STANDARD
TZOFFSETFROM:+0200
TZOFFSETTO:+0100
TZNAME:CET
DTSTART:20181028T010000
END:STANDARD
BEGIN:DAYLIGHT
TZOFFSETFROM:+0100
TZOFFSETTO:+0200
TZNAME:CEST
DTSTART:20190331T010000
END:DAYLIGHT
BEGIN:STANDARD
TZOFFSETFROM:+0200
TZOFFSETTO:+0100
TZNAME:CET
DTSTART:20191027T010000
END:STANDARD
BEGIN:DAYLIGHT
TZOFFSETFROM:+0100
TZOFFSETTO:+0200
TZNAME:CEST
DTSTART:20200329T010000
END:DAYLIGHT
BEGIN:STANDARD
TZOFFSETFROM:+0200
TZOFFSETTO:+0100
TZNAME:CET
DTSTART:20201025T010000
END:STANDARD
END:VTIMEZONE
BEGIN:VEVENT
DTSTART;TZID=Europe/Berlin:20190427T100000
DTEND;TZID=Europe/Berlin:20190427T150000
DTSTAMP:20260420T163640
CREATED:20190119T041837Z
LAST-MODIFIED:20190228T050508Z
UID:44123-1556359200-1556377200@erbsuende.com
SUMMARY:Nähcafé 10.00-15.00 Uhr
DESCRIPTION:Zu unserem Nähcafé kommst du einfach mit deiner Nähmaschine und deinem Nähprojekt. Gemeinsam mit den anderen Teilnehmerinnen nähst du in gemütlicher Runde und kannst dich über neue Schnitte\, Stoffe und Nähtechniken austauschen. Bitte buche dir rechtzeitig einen Platz – für weitere Informationen und zur Buchung bitte klicken.
URL:https://erbsuende.com/event/naehcafe-muenchen-4/
END:VEVENT
END:VCALENDAR