BEGIN:VCALENDAR
VERSION:2.0
PRODID:-//erbsünde - Schnittmuster zum Selbernähen - ECPv6.15.20//NONSGML v1.0//EN
CALSCALE:GREGORIAN
METHOD:PUBLISH
X-ORIGINAL-URL:https://erbsuende.com
X-WR-CALDESC:Veranstaltungen für erbsünde - Schnittmuster zum Selbernähen
REFRESH-INTERVAL;VALUE=DURATION:PT1H
X-Robots-Tag:noindex
X-PUBLISHED-TTL:PT1H
BEGIN:VTIMEZONE
TZID:Europe/Berlin
BEGIN:DAYLIGHT
TZOFFSETFROM:+0100
TZOFFSETTO:+0200
TZNAME:CEST
DTSTART:20190331T010000
END:DAYLIGHT
BEGIN:STANDARD
TZOFFSETFROM:+0200
TZOFFSETTO:+0100
TZNAME:CET
DTSTART:20191027T010000
END:STANDARD
BEGIN:DAYLIGHT
TZOFFSETFROM:+0100
TZOFFSETTO:+0200
TZNAME:CEST
DTSTART:20200329T010000
END:DAYLIGHT
BEGIN:STANDARD
TZOFFSETFROM:+0200
TZOFFSETTO:+0100
TZNAME:CET
DTSTART:20201025T010000
END:STANDARD
BEGIN:DAYLIGHT
TZOFFSETFROM:+0100
TZOFFSETTO:+0200
TZNAME:CEST
DTSTART:20210328T010000
END:DAYLIGHT
BEGIN:STANDARD
TZOFFSETFROM:+0200
TZOFFSETTO:+0100
TZNAME:CET
DTSTART:20211031T010000
END:STANDARD
END:VTIMEZONE
BEGIN:VEVENT
DTSTART;VALUE=DATE:20200929
DTEND;VALUE=DATE:20201002
DTSTAMP:20260421T121414
CREATED:20200919T162645Z
LAST-MODIFIED:20201001T121052Z
UID:127339-1601337600-1601596799@erbsuende.com
SUMMARY:geöffnet 9.00 - 15.00 Uhr
DESCRIPTION:
URL:https://erbsuende.com/event/geoeffnet-9-00-16-00-uhr-10/
END:VEVENT
BEGIN:VEVENT
DTSTART;VALUE=DATE:20201002
DTEND;VALUE=DATE:20201003
DTSTAMP:20260421T121414
CREATED:20200919T162712Z
LAST-MODIFIED:20200919T162712Z
UID:127341-1601596800-1601683199@erbsuende.com
SUMMARY:geöffnet 9.00 - 15.30 Uhr
DESCRIPTION:
URL:https://erbsuende.com/event/geoeffnet-9-00-15-30-uhr-4/
END:VEVENT
BEGIN:VEVENT
DTSTART;VALUE=DATE:20201003
DTEND;VALUE=DATE:20201004
DTSTAMP:20260421T121414
CREATED:20200919T162759Z
LAST-MODIFIED:20200919T163833Z
UID:127343-1601683200-1601769599@erbsuende.com
SUMMARY:geschlossen - Feiertag -
DESCRIPTION:
URL:https://erbsuende.com/event/geoeffnet-naehkurs-10-00-14-00-uhr/
END:VEVENT
BEGIN:VEVENT
DTSTART;VALUE=DATE:20201005
DTEND;VALUE=DATE:20201006
DTSTAMP:20260421T121414
CREATED:20200919T162411Z
LAST-MODIFIED:20200919T162411Z
UID:127331-1601856000-1601942399@erbsuende.com
SUMMARY:geschlossen
DESCRIPTION:
URL:https://erbsuende.com/event/geschlossen-7/
END:VEVENT
BEGIN:VEVENT
DTSTART;VALUE=DATE:20201006
DTEND;VALUE=DATE:20201007
DTSTAMP:20260421T121414
CREATED:20200919T163206Z
LAST-MODIFIED:20201007T091518Z
UID:127356-1601942400-1602028799@erbsuende.com
SUMMARY:geöffnet 9.00 – 16.00 Uhr
DESCRIPTION:
URL:https://erbsuende.com/event/geoeffnet-9-00-16-00-uhr-11/
END:VEVENT
BEGIN:VEVENT
DTSTART;VALUE=DATE:20201007
DTEND;VALUE=DATE:20201008
DTSTAMP:20260421T121414
CREATED:20201007T091301Z
LAST-MODIFIED:20201007T091301Z
UID:128174-1602028800-1602115199@erbsuende.com
SUMMARY:geöffnet 9.00 – 11.00 Uhr
DESCRIPTION:
URL:https://erbsuende.com/event/geoeffnet-9-00-11-00-uhr/
END:VEVENT
BEGIN:VEVENT
DTSTART;VALUE=DATE:20201008
DTEND;VALUE=DATE:20201009
DTSTAMP:20260421T121414
CREATED:20201007T091402Z
LAST-MODIFIED:20201007T091402Z
UID:128176-1602115200-1602201599@erbsuende.com
SUMMARY:geöffnet 9.00 – 16.00 Uhr
DESCRIPTION:
URL:https://erbsuende.com/event/geoeffnet-9-00-16-00-uhr-12/
END:VEVENT
BEGIN:VEVENT
DTSTART;VALUE=DATE:20201009
DTEND;VALUE=DATE:20201010
DTSTAMP:20260421T121414
CREATED:20200919T163231Z
LAST-MODIFIED:20201009T103330Z
UID:127358-1602201600-1602287999@erbsuende.com
SUMMARY:geöffnet 9.00 – 13.00 Uhr
DESCRIPTION:
URL:https://erbsuende.com/event/geoeffnet-9-00-15-30-uhr-5/
END:VEVENT
BEGIN:VEVENT
DTSTART;VALUE=DATE:20201010
DTEND;VALUE=DATE:20201011
DTSTAMP:20260421T121414
CREATED:20200919T163055Z
LAST-MODIFIED:20200919T163055Z
UID:127350-1602288000-1602374399@erbsuende.com
SUMMARY:geöffnet 10.00 - 14.00 Uhr -- NÄHKURS --
DESCRIPTION:
URL:https://erbsuende.com/event/geoeffnet-10-00-14-00-uhr-naehkurs/
END:VEVENT
BEGIN:VEVENT
DTSTART;VALUE=DATE:20201012
DTEND;VALUE=DATE:20201013
DTSTAMP:20260421T121414
CREATED:20200919T162445Z
LAST-MODIFIED:20200919T162445Z
UID:127333-1602460800-1602547199@erbsuende.com
SUMMARY:geschlossen
DESCRIPTION:
URL:https://erbsuende.com/event/geschlossen-8/
END:VEVENT
BEGIN:VEVENT
DTSTART;VALUE=DATE:20201013
DTEND;VALUE=DATE:20201015
DTSTAMP:20260421T121414
CREATED:20201015T043809Z
LAST-MODIFIED:20201015T043846Z
UID:128284-1602547200-1602719999@erbsuende.com
SUMMARY:geöffnet 9.00 - 16.00 Uhr
DESCRIPTION:
URL:https://erbsuende.com/event/geoeffnet-9-00-176-00-uhr/
END:VEVENT
BEGIN:VEVENT
DTSTART;VALUE=DATE:20201015
DTEND;VALUE=DATE:20201016
DTSTAMP:20260421T121414
CREATED:20201015T043356Z
LAST-MODIFIED:20201015T062655Z
UID:128275-1602720000-1602806399@erbsuende.com
SUMMARY:geschlossen
DESCRIPTION:
URL:https://erbsuende.com/event/geoeffnet-13-00-16-00-uhr/
END:VEVENT
BEGIN:VEVENT
DTSTART;VALUE=DATE:20201016
DTEND;VALUE=DATE:20201017
DTSTAMP:20260421T121414
CREATED:20201015T043444Z
LAST-MODIFIED:20201016T111011Z
UID:128277-1602806400-1602892799@erbsuende.com
SUMMARY:geöffnet 9.00 - 15.00 Uhr
DESCRIPTION:
URL:https://erbsuende.com/event/geoeffnet-9-00-17-00-uhr/
END:VEVENT
BEGIN:VEVENT
DTSTART;VALUE=DATE:20201017
DTEND;VALUE=DATE:20201018
DTSTAMP:20260421T121414
CREATED:20200919T163115Z
LAST-MODIFIED:20200919T163115Z
UID:127352-1602892800-1602979199@erbsuende.com
SUMMARY:geöffnet 10.00 - 14.00 Uhr -- NÄHKURS --
DESCRIPTION:
URL:https://erbsuende.com/event/geoeffnet-10-00-14-00-uhr-naehkurs-2/
END:VEVENT
BEGIN:VEVENT
DTSTART;VALUE=DATE:20201019
DTEND;VALUE=DATE:20201020
DTSTAMP:20260421T121414
CREATED:20200919T162523Z
LAST-MODIFIED:20200919T162523Z
UID:127335-1603065600-1603151999@erbsuende.com
SUMMARY:geschlossen
DESCRIPTION:
URL:https://erbsuende.com/event/geschlossen-9/
END:VEVENT
BEGIN:VEVENT
DTSTART;VALUE=DATE:20201020
DTEND;VALUE=DATE:20201021
DTSTAMP:20260421T121414
CREATED:20201015T043538Z
LAST-MODIFIED:20201020T091025Z
UID:128279-1603152000-1603238399@erbsuende.com
SUMMARY:geöffnet 9.00-11.00 und 14.00-17.00 Uhr
DESCRIPTION:
URL:https://erbsuende.com/event/geoeffnet-9-00-16-00-uhr-13/
END:VEVENT
BEGIN:VEVENT
DTSTART;VALUE=DATE:20201021
DTEND;VALUE=DATE:20201023
DTSTAMP:20260421T121414
CREATED:20201020T093129Z
LAST-MODIFIED:20201021T131258Z
UID:128418-1603238400-1603411199@erbsuende.com
SUMMARY:geöffnet 9.00- 16.00 Uhr
DESCRIPTION:
URL:https://erbsuende.com/event/geoeffnet-9-00-16-00-uhr-14/
END:VEVENT
BEGIN:VEVENT
DTSTART;VALUE=DATE:20201023
DTEND;VALUE=DATE:20201024
DTSTAMP:20260421T121414
CREATED:20201015T043634Z
LAST-MODIFIED:20201021T131554Z
UID:128281-1603411200-1603497599@erbsuende.com
SUMMARY:geschlossen
DESCRIPTION:
URL:https://erbsuende.com/event/geoeffnet-9-00-18-00-uhr-2/
END:VEVENT
BEGIN:VEVENT
DTSTART;TZID=Europe/Berlin:20201024T080000
DTEND;TZID=Europe/Berlin:20201024T170000
DTSTAMP:20260421T121414
CREATED:20200919T163134Z
LAST-MODIFIED:20200919T163134Z
UID:127354-1603526400-1603558800@erbsuende.com
SUMMARY:geöffnet 10.00 - 14.00 Uhr -- NÄHKURS --
DESCRIPTION:
URL:https://erbsuende.com/event/geoeffnet-10-00-14-00-uhr-naehkurs-3/
END:VEVENT
BEGIN:VEVENT
DTSTART;VALUE=DATE:20201026
DTEND;VALUE=DATE:20201027
DTSTAMP:20260421T121414
CREATED:20200919T162553Z
LAST-MODIFIED:20200919T162553Z
UID:127337-1603670400-1603756799@erbsuende.com
SUMMARY:geschlossen
DESCRIPTION:
URL:https://erbsuende.com/event/geschlossen-10/
END:VEVENT
BEGIN:VEVENT
DTSTART;TZID=Europe/Berlin:20201031T100000
DTEND;TZID=Europe/Berlin:20201031T140000
DTSTAMP:20260421T121414
CREATED:20200919T143746Z
LAST-MODIFIED:20201026T174909Z
UID:127293-1604138400-1604152800@erbsuende.com
SUMMARY:geöffnet 10.00 - 14.00 Uhr
DESCRIPTION:
URL:https://erbsuende.com/event/naehcafe-10-00-14-00-uhr-2/
END:VEVENT
END:VCALENDAR