BEGIN:VCALENDAR
VERSION:2.0
PRODID:-//erbsünde - Schnittmuster zum Selbernähen - ECPv6.15.20//NONSGML v1.0//EN
CALSCALE:GREGORIAN
METHOD:PUBLISH
X-ORIGINAL-URL:https://erbsuende.com
X-WR-CALDESC:Veranstaltungen für erbsünde - Schnittmuster zum Selbernähen
REFRESH-INTERVAL;VALUE=DURATION:PT1H
X-Robots-Tag:noindex
X-PUBLISHED-TTL:PT1H
BEGIN:VTIMEZONE
TZID:Europe/Berlin
BEGIN:DAYLIGHT
TZOFFSETFROM:+0100
TZOFFSETTO:+0200
TZNAME:CEST
DTSTART:20200329T010000
END:DAYLIGHT
BEGIN:STANDARD
TZOFFSETFROM:+0200
TZOFFSETTO:+0100
TZNAME:CET
DTSTART:20201025T010000
END:STANDARD
BEGIN:DAYLIGHT
TZOFFSETFROM:+0100
TZOFFSETTO:+0200
TZNAME:CEST
DTSTART:20210328T010000
END:DAYLIGHT
BEGIN:STANDARD
TZOFFSETFROM:+0200
TZOFFSETTO:+0100
TZNAME:CET
DTSTART:20211031T010000
END:STANDARD
BEGIN:DAYLIGHT
TZOFFSETFROM:+0100
TZOFFSETTO:+0200
TZNAME:CEST
DTSTART:20220327T010000
END:DAYLIGHT
BEGIN:STANDARD
TZOFFSETFROM:+0200
TZOFFSETTO:+0100
TZNAME:CET
DTSTART:20221030T010000
END:STANDARD
END:VTIMEZONE
BEGIN:VEVENT
DTSTART;VALUE=DATE:20210302
DTEND;VALUE=DATE:20210306
DTSTAMP:20260420T034545
CREATED:20210225T091904Z
LAST-MODIFIED:20210304T075122Z
UID:132171-1614643200-1614988799@erbsuende.com
SUMMARY:9.00-15.00 Uhr - Click & Collect – Abholung bestellter Ware – bitte Termin per info@erbsuende.com vereinbaren
DESCRIPTION:
URL:https://erbsuende.com/event/click-collect-abholung-bestellter-ware-zwischen-9-00-15-00-uhr-bitte-termin-per-infoerbsuende-com-vereinbaren-6/
END:VEVENT
BEGIN:VEVENT
DTSTART;VALUE=DATE:20210309
DTEND;VALUE=DATE:20210310
DTSTAMP:20260420T034545
CREATED:20210307T072051Z
LAST-MODIFIED:20210307T072051Z
UID:132405-1615248000-1615334399@erbsuende.com
SUMMARY:10.00-15.00 Uhr – Click & Collect – Abholung bestellter Ware – bitte Termin per info@erbsuende.com vereinbaren
DESCRIPTION:
URL:https://erbsuende.com/event/10-00-15-00-uhr-click-collect-abholung-bestellter-ware-bitte-termin-per-infoerbsuende-com-vereinbaren/
END:VEVENT
BEGIN:VEVENT
DTSTART;VALUE=DATE:20210311
DTEND;VALUE=DATE:20210312
DTSTAMP:20260420T034545
CREATED:20210307T072120Z
LAST-MODIFIED:20210307T072120Z
UID:132407-1615420800-1615507199@erbsuende.com
SUMMARY:10.00-15.00 Uhr – Click & Collect – Abholung bestellter Ware – bitte Termin per info@erbsuende.com vereinbaren
DESCRIPTION:
URL:https://erbsuende.com/event/10-00-15-00-uhr-click-collect-abholung-bestellter-ware-bitte-termin-per-infoerbsuende-com-vereinbaren-2/
END:VEVENT
BEGIN:VEVENT
DTSTART;VALUE=DATE:20210327
DTEND;VALUE=DATE:20210328
DTSTAMP:20260420T034545
CREATED:20210327T073530Z
LAST-MODIFIED:20210327T073711Z
UID:132700-1616803200-1616889599@erbsuende.com
SUMMARY:GEÖFFNET - Terminbuchung über https://calendly.com/erbsuende/15min
DESCRIPTION:
URL:https://erbsuende.com/event/geoeffnet-11-00-15-00-uhr-terminvergabe-ueber-https-calendly-com-erbsuende-15min/
END:VEVENT
END:VCALENDAR